{
 "tileInfo": {
  "lods": [
   {
    "level": 0,
    "scale": 591657527.591555,
    "resolution": 156543.03392799999
   },
   {
    "level": 1,
    "scale": 295828763.795777023,
    "resolution": 78271.5169639998931
   },
   {
    "level": 2,
    "scale": 147914381.897888988,
    "resolution": 39135.7584820000993
   },
   {
    "level": 3,
    "scale": 73957190.9489440024,
    "resolution": 19567.8792409999005
   },
   {
    "level": 4,
    "scale": 36978595.4744720012,
    "resolution": 9783.93962049995935
   },
   {
    "level": 5,
    "scale": 18489297.7372360006,
    "resolution": 4891.96981024997967
   },
   {
    "level": 6,
    "scale": 9244648.8686180003,
    "resolution": 2445.98490512498984
   },
   {
    "level": 7,
    "scale": 4622324.43430900015,
    "resolution": 1222.99245256248992
   },
   {
    "level": 8,
    "scale": 2311162.21715500019,
    "resolution": 611.496226281380018
   },
   {
    "level": 9,
    "scale": 1155581.108577,
    "resolution": 305.748113140558019
   },
   {
    "level": 10,
    "scale": 577790.554288999992,
    "resolution": 152.874056570411
   },
   {
    "level": 11,
    "scale": 288895.277143999992,
    "resolution": 76.437028285073197
   },
   {
    "level": 12,
    "scale": 144447.638572,
    "resolution": 38.218514142536598
   },
   {
    "level": 13,
    "scale": 72223.8192859999981,
    "resolution": 19.109257071268299
   },
   {
    "level": 14,
    "scale": 36111.9096429999991,
    "resolution": 9.5546285356341496
   },
   {
    "level": 15,
    "scale": 18055.954822,
    "resolution": 4.7773142679493699
   },
   {
    "level": 16,
    "scale": 9027.97741099999985,
    "resolution": 2.38865713397468
   },
   {
    "level": 17,
    "scale": 4513.98870499999975,
    "resolution": 1.1943285668550501
   },
   {
    "level": 18,
    "scale": 2256.994353,
    "resolution": 0.59716428355981699
   },
   {
    "level": 19,
    "scale": 1128.49717600000008,
    "resolution": 0.29858214164761698
   },
   {
    "level": 20,
    "scale": 564.248588000000041,
    "resolution": 0.14929107082380833
   },
   {
    "level": 21,
    "scale": 282.12429400000002,
    "resolution": 0.074645535411904163
   },
   {
    "level": 22,
    "scale": 141.06214700000001,
    "resolution": 0.037322767705952081
   },
   {
    "level": 23,
    "scale": 70.531073500000005,
    "resolution": 0.018661383852976041
   }
  ],
  "bandCount": 1,
  "lercError": 0,
  "origin": {
   "x": -20037508.3427870013,
   "y": 20037508.3427870013
  },
  "format": "PNG8",
  "storageFormat": "esriMapCacheStorageModeCompactV2",
  "compressionQuality": 0,
  "packetSize": 128,
  "spatialReference": {
   "latestWkid": 3857,
   "wkid": 102100
  },
  "rows": 256,
  "dpi": 96,
  "cols": 256
 },
 "units": "esriMeters",
 "type": "MapServer",
 "exportTilesAllowed": false,
 "layers": [
  {
   "serviceItemId": "5155e588e60444129479d562a2edea33",
   "maxScale": 0,
   "legend": [
    {
     "layerId": 109,
     "imageData": "iVBORw0KGgoAAAANSUhEUgAAABQAAAAUCAYAAACNiR0NAAAACXBIWXMAAA7EAAAOxAGVKw4bAAAAOUlEQVQ4je3MMREAMAgDQHIXD+hBefVUBZ2Zk628gOe53WFSCTDMuKGMejFtqKPhGDbU8cOwEnCOD1juBKtJipfoAAAAAElFTkSuQmCC",
     "groupId": "0",
     "values": [
      0.5
     ],
     "width": 20,
     "label": "<0.5 ft",
     "layerName": "SLR: 6.6 ft (2 m)",
     "contentType": "image/png",
     "height": 20
    },
    {
     "layerId": 109,
     "imageData": "iVBORw0KGgoAAAANSUhEUgAAABQAAAAUCAYAAACNiR0NAAAACXBIWXMAAA7EAAAOxAGVKw4bAAAAOUlEQVQ4je3MMREAMAgDQHIXRZhDQ83VEp2Zk628gOe53WFSCTDMuKGMejFtqKPhGDbU8cOwEnCOD1oXBPxfTjfvAAAAAElFTkSuQmCC",
     "groupId": "0",
     "values": [
      1
     ],
     "width": 20,
     "label": "0.5 - 1 ft",
     "layerName": "SLR: 6.6 ft (2 m)",
     "contentType": "image/png",
     "height": 20
    },
    {
     "layerId": 109,
     "imageData": "iVBORw0KGgoAAAANSUhEUgAAABQAAAAUCAYAAACNiR0NAAAACXBIWXMAAA7EAAAOxAGVKw4bAAAAN0lEQVQ4je3MsQ0AMAgDMCLlwnJneZHOzMlWfIB5bneYVAIMM24oo15MG+poOIYNdfwwrASc4wNbVgVUZkkW2wAAAABJRU5ErkJggg==",
     "groupId": "0",
     "values": [
      2
     ],
     "width": 20,
     "label": "1 - 2 ft",
     "layerName": "SLR: 6.6 ft (2 m)",
     "contentType": "image/png",
     "height": 20
    },
    {
     "layerId": 109,
     "imageData": "iVBORw0KGgoAAAANSUhEUgAAABQAAAAUCAYAAACNiR0NAAAACXBIWXMAAA7EAAAOxAGVKw4bAAAAOUlEQVQ4je3MMREAMAgDQHIXF5XKXKnooDNzspUX8Dy3O0wqAYYZN5RRL6YNdTQcw4Y6fhhWAs7xAVyqBbPZz4HKAAAAAElFTkSuQmCC",
     "groupId": "0",
     "values": [
      3
     ],
     "width": 20,
     "label": "2 - 3 ft",
     "layerName": "SLR: 6.6 ft (2 m)",
     "contentType": "image/png",
     "height": 20
    },
    {
     "layerId": 109,
     "imageData": "iVBORw0KGgoAAAANSUhEUgAAABQAAAAUCAYAAACNiR0NAAAACXBIWXMAAA7EAAAOxAGVKw4bAAAAOElEQVQ4jWNhSHr9n4FaYJ4oIwsDlQHLqIEUAxbKjUAFowZSDlioYAYKGDWQcsAyEg2cJ8pITRMBBk0EBf/BhyMAAAAASUVORK5CYII=",
     "groupId": "0",
     "values": [
      6
     ],
     "width": 20,
     "label": "3 - 6 ft",
     "layerName": "SLR: 6.6 ft (2 m)",
     "contentType": "image/png",
     "height": 20
    },
    {
     "layerId": 109,
     "imageData": "iVBORw0KGgoAAAANSUhEUgAAABQAAAAUCAYAAACNiR0NAAAACXBIWXMAAA7EAAAOxAGVKw4bAAAAOElEQVQ4jWNh8Dn8n4FaYIstIwsDlQHLqIEUAxbKjUAFowZSDlioYAYKGDWQcsAyEg3cYstITRMBBt8EQ4QuTR4AAAAASUVORK5CYII=",
     "groupId": "0",
     "values": [
      9
     ],
     "width": 20,
     "label": "6 - 9 ft",
     "layerName": "SLR: 6.6 ft (2 m)",
     "contentType": "image/png",
     "height": 20
    },
    {
     "layerId": 109,
     "imageData": "iVBORw0KGgoAAAANSUhEUgAAABQAAAAUCAYAAACNiR0NAAAACXBIWXMAAA7EAAAOxAGVKw4bAAAAOElEQVQ4jWNhsJj9n4Fa4EQqIwsDlQHLqIEUAxbKjUAFowZSDlioYAYKGDWQcsAyEg08kcpITRMBB2sEf8zgsJYAAAAASUVORK5CYII=",
     "groupId": "0",
     "values": [
      12
     ],
     "width": 20,
     "label": "9 - 12 ft",
     "layerName": "SLR: 6.6 ft (2 m)",
     "contentType": "image/png",
     "height": 20
    },
    {
     "layerId": 109,
     "imageData": "iVBORw0KGgoAAAANSUhEUgAAABQAAAAUCAYAAACNiR0NAAAACXBIWXMAAA7EAAAOxAGVKw4bAAAAO0lEQVQ4jWNx8e/8z0AlsGdjOSMLA5UBy6iBFAMWyo1ABaMGUg5YqGAGChg1kHLAMgIN3LOxnJGaJgIAXZQGNpIhu6sAAAAASUVORK5CYII=",
     "groupId": "0",
     "values": [
      200
     ],
     "width": 20,
     "label": ">12 ft",
     "layerName": "SLR: 6.6 ft (2 m)",
     "contentType": "image/png",
     "height": 20
    }
   ],
   "defaultVisibility": true,
   "type": "Feature Layer",
   "layerId": 109,
   "subLayerIds": null,
   "name": "SLR: 6.6 ft (2 m)",
   "id": 109,
   "minScale": 0,
   "supportsDynamicLegends": true,
   "layerName": "SLR: 6.6 ft (2 m)",
   "parentLayerId": -1,
   "geometryType": "esriGeometryPolygon"
  }
 ],
 "minScale": 0,
 "mapName": "Water Depth Layer",
 "spatialReference": {
  "falseM": -100000,
  "xyTolerance": 0.001,
  "mUnits": 10000,
  "zUnits": 10000,
  "latestWkid": 3857,
  "zTolerance": 0.001,
  "wkid": 102100,
  "xyUnits": 10000,
  "mTolerance": 0.001,
  "falseX": -20037700,
  "falseY": -30241100,
  "falseZ": -100000
 },
 "tileImageInfo": {
  "bandCount": 1,
  "lercError": 0,
  "format": "PNG8",
  "compressionQuality": 0
 },
 "fullExtent": {
  "ymin": 6225664.19002820179,
  "xmin": -13701915.2425964158,
  "ymax": 6275073.3454105733,
  "xmax": -13634325.4597797021,
  "spatialReference": {
   "latestWkid": 3857,
   "wkid": 102100
  }
 },
 "supportedExtensions": "",
 "serviceItemId": "5155e588e60444129479d562a2edea33",
 "capabilities": "TilesOnly,Tilemap",
 "maxScale": 0,
 "singleFusedMapCache": true,
 "version": 1,
 "storageInfo": {
  "storageFormat": "esriMapCacheStorageModeCompactV2",
  "packetSize": 128
 },
 "resampling": true,
 "currentVersion": 12,
 "maxExportTilesCount": 0,
 "tileBundlesPath": "./tile",
 "maxLOD": 19,
 "minLOD": 11,
 "initialExtent": {
  "ymin": 6225664.19002820179,
  "xmin": -13701915.2425964158,
  "ymax": 6275073.3454105733,
  "xmax": -13634325.4597797021,
  "spatialReference": {
   "latestWkid": 3857,
   "wkid": 102100
  }
 },
 "name": "Water Depth Layer",
 "serviceDescription": ""
}
